BEGIN:VCALENDAR
VERSION:2.0
PRODID:-//Kemp Pohoda Roudná - ECPv6.15.19//NONSGML v1.0//EN
CALSCALE:GREGORIAN
METHOD:PUBLISH
X-ORIGINAL-URL:https://www.kemppohoda.cz
X-WR-CALDESC:Akce na Kemp Pohoda Roudná
REFRESH-INTERVAL;VALUE=DURATION:PT1H
X-Robots-Tag:noindex
X-PUBLISHED-TTL:PT1H
BEGIN:VTIMEZONE
TZID:UTC
BEGIN:STANDARD
TZOFFSETFROM:+0000
TZOFFSETTO:+0000
TZNAME:UTC
DTSTART:20250101T000000
END:STANDARD
END:VTIMEZONE
BEGIN:VEVENT
DTSTART;TZID=UTC:20260815T190000
DTEND;TZID=UTC:20260815T230000
DTSTAMP:20260425T233835
CREATED:20260317T192558Z
LAST-MODIFIED:20260317T193647Z
UID:2040-1786820400-1786834800@www.kemppohoda.cz
SUMMARY:Allegro Band a opekání prasete
DESCRIPTION:Pop • Rock • Country • Dechovka \nČeské i zahraniční hity\, které znáte a milujete. \n To vše je Allegro Band. \nAť je vám dvacet nebo sedmdesát – tento večer si zazpíváte i zatancujete ! \nA k tomu Na rožni se bude točit prase (a jak všichni víme – v Kempu Pohoda je prase vždycky dobrý! 🐷)\,pivo poteče proudem a věřte\, že bude jako křen 🍺💪 \nCo více si přát na sobotní večer v pohodovém kempu \n  \n \n\nTěšíme se na Vás
URL:https://www.kemppohoda.cz/akce/allegro-band-2/
LOCATION:Restaurace Pohoda\, Roudná 260\, Roudná\, Jihočeský\, 39201\, Česká republika
CATEGORIES:Akce pro hosty kempu,Kulturni akce,Udalosti v Restauraci
END:VEVENT
END:VCALENDAR